Workbook

Sheet Instructions
C2: INSTRUCTIONS
C3: BUDGET TEMPLATE FILE FOR BUDGET BREAKDOWN
C4: This file will help you input budget details for your project proposal. Please follow the instructions to ensure that all relevant information is captured. STEP 1: On the 'Partner List' sheet, enter the names of the partners in your consortia, including the lead partner. Please check the minimum and the maximum number of partners allowed for your call and segment. If is a mono-beneficiary project, only one partner will me required to be included. STEP 2: On the separate sheets for each partner, the costs in the different cost categories must be entered. These are broken down into the separate WPs (a maximum of ten are allowed). Note that indirect costs, total eligible costs and co-funding are calculated automatically based on the data you input. STEP 3: When all costs have been entered, check the 'Budget Summary' sheet. Here you will find a summary of all the information you have submitted. Please ensure that your total budget requests from EIT do not exceed the maximum amount allowed in the call you are appling for. In addition, check that the co-funding that has been calculated is equal to or more than the required co-funding for the call. STEP 4: Once you have submitted all the data correctly, save the file and upload it in the application system.

Sheet Partner list
B2: ADD THE NAMES OF THE PARTNERS IN THE CONSORTIUM (INCLUDING LEAD PARTNER) IN THE LIST BELOW
B4: Partner number | C4: Partner Name
B5: Partner #1 | C5: Partner 1
B6: Partner #2 | C6: Partner 2
B7: Partner #3 | C7: Partner 3
B8: Partner #4 | C8: Partner 4
B9: Partner #5 | C9: Partner 5
B10: Partner #6 | C10: Partner 6
B11: Partner #7 | C11: Partner 7
B12: Partner #8 | C12: Partner 8
B13: Partner #9 | C13: Partner 9
B14: Partner #10 | C14: Partner 10
D17: /
D18: \
D19: ,
D20: ~*
D21: ~?
D22: :
D23: [
D24: ]

Sheet Budget Summary
C3: Partner number | D3: Partner Name | E3: TOTAL | F3: EIT Grant | G3: Co-funding
C4: Partner #1 | D4: ='Partner list'!C5 -> Partner 1 | E4: ='Buget per Category & partner'!J5 -> 0 | F4: ='Buget per Category & partner'!K5 -> 0 | G4: =E4-F4 -> 0 | H4: =IF( G4>0, G4/E4, "-") -> -
C5: Partner #2 | D5: ='Partner list'!C6 -> Partner 2 | E5: ='Buget per Category & partner'!J6 -> 0 | F5: ='Buget per Category & partner'!K6 -> 0 | G5: =E5-F5 -> 0 | H5: =IF( G5>0, G5/E5, "-") -> -
C6: Partner #3 | D6: ='Partner list'!C7 -> Partner 3 | E6: ='Buget per Category & partner'!J7 -> 0 | F6: ='Buget per Category & partner'!K7 -> 0 | G6: =E6-F6 -> 0 | H6: =IF( G6>0, G6/E6, "-") -> -
C7: Partner #4 | D7: ='Partner list'!C8 -> Partner 4 | E7: ='Buget per Category & partner'!J8 -> 0 | F7: ='Buget per Category & partner'!K8 -> 0 | G7: =E7-F7 -> 0 | H7: =IF( G7>0, G7/E7, "-") -> -
C8: Partner #5 | D8: ='Partner list'!C9 -> Partner 5 | E8: ='Buget per Category & partner'!J9 -> 0 | F8: ='Buget per Category & partner'!K9 -> 0 | G8: =E8-F8 -> 0 | H8: =IF( G8>0, G8/E8, "-") -> -
C9: Partner #6 | D9: ='Partner list'!C10 -> Partner 6 | E9: ='Buget per Category & partner'!J10 -> 0 | F9: ='Buget per Category & partner'!K10 -> 0 | G9: =E9-F9 -> 0 | H9: =IF( G9>0, G9/E9, "-") -> -
C10: Partner #7 | D10: ='Partner list'!C11 -> Partner 7 | E10: ='Buget per Category & partner'!J11 -> 0 | F10: ='Buget per Category & partner'!K11 -> 0 | G10: =E10-F10 -> 0 | H10: =IF( G10>0, G10/E10, "-") -> -
C11: Partner #8 | D11: ='Partner list'!C12 -> Partner 8 | E11: ='Buget per Category & partner'!J12 -> 0 | F11: ='Buget per Category & partner'!K12 -> 0 | G11: =E11-F11 -> 0 | H11: =IF( G11>0, G11/E11, "-") -> -
C12: Partner #9 | D12: ='Partner list'!C13 -> Partner 9 | E12: ='Buget per Category & partner'!J13 -> 0 | F12: ='Buget per Category & partner'!K13 -> 0 | G12: =E12-F12 -> 0 | H12: =IF( G12>0, G12/E12, "-") -> -
C13: Partner #10 | D13: ='Partner list'!C14 -> Partner 10 | E13: ='Buget per Category & partner'!J14 -> 0 | F13: ='Buget per Category & partner'!K14 -> 0 | G13: =E13-F13 -> 0 | H13: =IF( G13>0, G13/E13, "-") -> -
C14: TOTAL | E14: =SUM(E4:E13) -> 0 | F14: =SUM(F4:F13) -> 0 | G14: =SUM(G4:G13) -> 0 | H14: =IF( G14>0, G14/E14, "-") -> -

Sheet Partner 1
B2: PARTNER #1 | C2: ='Partner list'!C5 -> Partner 1
C5: WP1 | D5: WP2 | E5: WP3 | F5: WP4 | G5: WP5 | H5: WP6 | I5: WP7 | J5: WP8 | K5: WP9 | L5: WP10
B6: Personnel costs
B7: Subcontracting
B8: Travel & Substinence
B9: Equipment
B10: Other goods & services
B11: Internally invoiced goods & services
B12: Indirect costs | C12: =SUM(C6,C8,C9,C10,C11)*0.25 -> 0 | D12: =SUM(D6,D8,D9,D10,D11)*0.25 -> 0 | E12: =SUM(E6,E8,E9,E10,E11)*0.25 -> 0 | F12: =SUM(F6,F8,F9,F10,F11)*0.25 -> 0 | G12: =SUM(G6,G8,G9,G10,G11)*0.25 -> 0 | H12: =SUM(H6,H8,H9,H10,H11)*0.25 -> 0 | I12: =SUM(I6,I8,I9,I10,I11)*0.25 -> 0 | J12: =SUM(J6,J8,J9,J10,J11)*0.25 -> 0 | ... L12: =SUM(L6,L8,L9,L10,L11)*0.25 -> 0
B13: Total eligible costs | C13: =SUM(C6:C12) -> 0 | D13: =SUM(D6:D12) -> 0 | E13: =SUM(E6:E12) -> 0 | F13: =SUM(F6:F12) -> 0 | G13: =SUM(G6:G12) -> 0 | H13: =SUM(H6:H12) -> 0 | I13: =SUM(I6:I12) -> 0 | J13: =SUM(J6:J12) -> 0 | ... L13: =SUM(L6:L12) -> 0
B15: Requested EIT contribution to eligible costs
B16: Calculated co-funding | C16: =C13-C15 -> 0 | D16: =D13-D15 -> 0 | E16: =E13-E15 -> 0 | F16: =F13-F15 -> 0 | G16: =G13-G15 -> 0 | H16: =H13-H15 -> 0 | I16: =I13-I15 -> 0 | J16: =J13-J15 -> 0 | ... L16: =L13-L15 -> 0
B17: Co-funding rate | C17: =IF(C13>0, C16/C13, "-") -> - | D17: =IF(D13>0, D16/D13, "-") -> - | E17: =IF(E13>0, E16/E13, "-") -> - | F17: =IF(F13>0, F16/F13, "-") -> - | G17: =IF(G13>0, G16/G13, "-") -> - | H17: =IF(H13>0, H16/H13, "-") -> - | I17: =IF(I13>0, I16/I13, "-") -> - | J17: =IF(J13>0, J16/J13, "-") -> - | ... L17: =IF(L13>0, L16/L13, "-") -> -
C19: Personnel costs | D19: Subcontracting | E19: Travel & Substinence | F19: Equipment | G19: Other goods & services | H19: Internally invoiced goods & services | I19: Indirect costs | J19: Total eligible costs | K19: Requested EIT contribution to eligible costs | L19: Calculated co-funding | M19: Co-funding rate
B20: 2025-2026 | C20: =C6+D6+E6+F6+G6+H6+I6+J6+K6+L6 -> 0 | D20: =C7+D7+E7+F7+G7+H7+I7+J7+K7+L7 -> 0 | E20: =C8+D8+E8+F8+G8+H8+I8+J8+K8+L8 -> 0 | F20: =C9+D9+E9+F9+G9+H9+I9+J9+K9+L9 -> 0 | G20: =C10+D10+E10+F10+G10+H10+I10+J10+K10+L10 -> 0 | H20: =C11+D11+E11+F11+G11+H11+I11+J11+K11+L11 -> 0 | I20: =C12+D12+E12+F12+G12+H12+I12+J12+K12+L12 -> 0 | J20: =C13+D13+E13+F13+G13+H13+I13+J13+K13+L13 -> 0 | K20: =C15+D15+E15+F15+G15+H15+I15+J15+K15+L15 -> 0 | L20: =C16+D16+E16+F16+G16+H16+I16+J16+K16+L16 -> 0 | M20: =IF(J20>0, L20/J20, "-") -> -
B21: TOTAL | C21: =SUM(C20:C20) -> 0 | D21: =SUM(D20:D20) -> 0 | E21: =SUM(E20:E20) -> 0 | F21: =SUM(F20:F20) -> 0 | G21: =SUM(G20:G20) -> 0 | H21: =SUM(H20:H20) -> 0 | I21: =SUM(I20:I20) -> 0 | J21: =SUM(J20:J20) -> 0 | ... L21: =SUM(L20:L20) -> 0 | M21: =IF(J21>0, L21/J21, "-") -> -

Sheet Partner 2
B2: PARTNER #2 | C2: ='Partner list'!C6 -> Partner 2
C5: WP1 | D5: WP2 | E5: WP3 | F5: WP4 | G5: WP5 | H5: WP6 | I5: WP7 | J5: WP8 | K5: WP9 | L5: WP10
B6: Personnel costs
B7: Subcontracting
B8: Travel & Substinence
B9: Equipment
B10: Other goods & services
B11: Internally invoiced goods & services
B12: Indirect costs | C12: =SUM(C6,C8,C9,C10,C11)*0.25 -> 0 | D12: =SUM(D6,D8,D9,D10,D11)*0.25 -> 0 | E12: =SUM(E6,E8,E9,E10,E11)*0.25 -> 0 | F12: =SUM(F6,F8,F9,F10,F11)*0.25 -> 0 | G12: =SUM(G6,G8,G9,G10,G11)*0.25 -> 0 | H12: =SUM(H6,H8,H9,H10,H11)*0.25 -> 0 | I12: =SUM(I6,I8,I9,I10,I11)*0.25 -> 0 | J12: =SUM(J6,J8,J9,J10,J11)*0.25 -> 0 | ... L12: =SUM(L6,L8,L9,L10,L11)*0.25 -> 0
B13: Total eligible costs | C13: =SUM(C6:C12) -> 0 | D13: =SUM(D6:D12) -> 0 | E13: =SUM(E6:E12) -> 0 | F13: =SUM(F6:F12) -> 0 | G13: =SUM(G6:G12) -> 0 | H13: =SUM(H6:H12) -> 0 | I13: =SUM(I6:I12) -> 0 | J13: =SUM(J6:J12) -> 0 | ... L13: =SUM(L6:L12) -> 0
B15: Requested EIT contribution to eligible costs
B16: Calculated co-funding | C16: =C13-C15 -> 0 | D16: =D13-D15 -> 0 | E16: =E13-E15 -> 0 | F16: =F13-F15 -> 0 | G16: =G13-G15 -> 0 | H16: =H13-H15 -> 0 | I16: =I13-I15 -> 0 | J16: =J13-J15 -> 0 | ... L16: =L13-L15 -> 0
B17: Co-funding rate | C17: =IF(C13>0, C16/C13, "-") -> - | D17: =IF(D13>0, D16/D13, "-") -> - | E17: =IF(E13>0, E16/E13, "-") -> - | F17: =IF(F13>0, F16/F13, "-") -> - | G17: =IF(G13>0, G16/G13, "-") -> - | H17: =IF(H13>0, H16/H13, "-") -> - | I17: =IF(I13>0, I16/I13, "-") -> - | J17: =IF(J13>0, J16/J13, "-") -> - | ... L17: =IF(L13>0, L16/L13, "-") -> -
C19: Personnel costs | D19: Subcontracting | E19: Travel & Substinence | F19: Equipment | G19: Other goods & services | H19: Internally invoiced goods & services | I19: Indirect costs | J19: Total eligible costs | K19: Requested EIT contribution to eligible costs | L19: Calculated co-funding | M19: Co-funding rate
B20: 2025-2026 | C20: =C6+D6+E6+F6+G6+H6+I6+J6+K6+L6 -> 0 | D20: =C7+D7+E7+F7+G7+H7+I7+J7+K7+L7 -> 0 | E20: =C8+D8+E8+F8+G8+H8+I8+J8+K8+L8 -> 0 | F20: =C9+D9+E9+F9+G9+H9+I9+J9+K9+L9 -> 0 | G20: =C10+D10+E10+F10+G10+H10+I10+J10+K10+L10 -> 0 | H20: =C11+D11+E11+F11+G11+H11+I11+J11+K11+L11 -> 0 | I20: =C12+D12+E12+F12+G12+H12+I12+J12+K12+L12 -> 0 | J20: =C13+D13+E13+F13+G13+H13+I13+J13+K13+L13 -> 0 | K20: =C15+D15+E15+F15+G15+H15+I15+J15+K15+L15 -> 0 | L20: =C16+D16+E16+F16+G16+H16+I16+J16+K16+L16 -> 0 | M20: =IF(J20>0, L20/J20, "-") -> -
B21: TOTAL | C21: =SUM(C20:C20) -> 0 | D21: =SUM(D20:D20) -> 0 | E21: =SUM(E20:E20) -> 0 | F21: =SUM(F20:F20) -> 0 | G21: =SUM(G20:G20) -> 0 | H21: =SUM(H20:H20) -> 0 | I21: =SUM(I20:I20) -> 0 | J21: =SUM(J20:J20) -> 0 | ... L21: =SUM(L20:L20) -> 0 | M21: =IF(J21>0, L21/J21, "-") -> -

Sheet Partner 3
B2: PARTNER #3 | C2: ='Partner list'!C7 -> Partner 3
C5: WP1 | D5: WP2 | E5: WP3 | F5: WP4 | G5: WP5 | H5: WP6 | I5: WP7 | J5: WP8 | K5: WP9 | L5: WP10
B6: Personnel costs
B7: Subcontracting
B8: Travel & Substinence
B9: Equipment
B10: Other goods & services
B11: Internally invoiced goods & services
B12: Indirect costs | C12: =SUM(C6,C8,C9,C10,C11)*0.25 -> 0 | D12: =SUM(D6,D8,D9,D10,D11)*0.25 -> 0 | E12: =SUM(E6,E8,E9,E10,E11)*0.25 -> 0 | F12: =SUM(F6,F8,F9,F10,F11)*0.25 -> 0 | G12: =SUM(G6,G8,G9,G10,G11)*0.25 -> 0 | H12: =SUM(H6,H8,H9,H10,H11)*0.25 -> 0 | I12: =SUM(I6,I8,I9,I10,I11)*0.25 -> 0 | J12: =SUM(J6,J8,J9,J10,J11)*0.25 -> 0 | ... L12: =SUM(L6,L8,L9,L10,L11)*0.25 -> 0
B13: Total eligible costs | C13: =SUM(C6:C12) -> 0 | D13: =SUM(D6:D12) -> 0 | E13: =SUM(E6:E12) -> 0 | F13: =SUM(F6:F12) -> 0 | G13: =SUM(G6:G12) -> 0 | H13: =SUM(H6:H12) -> 0 | I13: =SUM(I6:I12) -> 0 | J13: =SUM(J6:J12) -> 0 | ... L13: =SUM(L6:L12) -> 0
B15: Requested EIT contribution to eligible costs
B16: Calculated co-funding | C16: =C13-C15 -> 0 | D16: =D13-D15 -> 0 | E16: =E13-E15 -> 0 | F16: =F13-F15 -> 0 | G16: =G13-G15 -> 0 | H16: =H13-H15 -> 0 | I16: =I13-I15 -> 0 | J16: =J13-J15 -> 0 | ... L16: =L13-L15 -> 0
B17: Co-funding rate | C17: =IF(C13>0, C16/C13, "-") -> - | D17: =IF(D13>0, D16/D13, "-") -> - | E17: =IF(E13>0, E16/E13, "-") -> - | F17: =IF(F13>0, F16/F13, "-") -> - | G17: =IF(G13>0, G16/G13, "-") -> - | H17: =IF(H13>0, H16/H13, "-") -> - | I17: =IF(I13>0, I16/I13, "-") -> - | J17: =IF(J13>0, J16/J13, "-") -> - | ... L17: =IF(L13>0, L16/L13, "-") -> -
C19: Personnel costs | D19: Subcontracting | E19: Travel & Substinence | F19: Equipment | G19: Other goods & services | H19: Internally invoiced goods & services | I19: Indirect costs | J19: Total eligible costs | K19: Requested EIT contribution to eligible costs | L19: Calculated co-funding | M19: Co-funding rate
B20: 2025-2026 | C20: =C6+D6+E6+F6+G6+H6+I6+J6+K6+L6 -> 0 | D20: =C7+D7+E7+F7+G7+H7+I7+J7+K7+L7 -> 0 | E20: =C8+D8+E8+F8+G8+H8+I8+J8+K8+L8 -> 0 | F20: =C9+D9+E9+F9+G9+H9+I9+J9+K9+L9 -> 0 | G20: =C10+D10+E10+F10+G10+H10+I10+J10+K10+L10 -> 0 | H20: =C11+D11+E11+F11+G11+H11+I11+J11+K11+L11 -> 0 | I20: =C12+D12+E12+F12+G12+H12+I12+J12+K12+L12 -> 0 | J20: =C13+D13+E13+F13+G13+H13+I13+J13+K13+L13 -> 0 | K20: =C15+D15+E15+F15+G15+H15+I15+J15+K15+L15 -> 0 | L20: =C16+D16+E16+F16+G16+H16+I16+J16+K16+L16 -> 0 | M20: =IF(J20>0, L20/J20, "-") -> -
B21: TOTAL | C21: =SUM(C20:C20) -> 0 | D21: =SUM(D20:D20) -> 0 | E21: =SUM(E20:E20) -> 0 | F21: =SUM(F20:F20) -> 0 | G21: =SUM(G20:G20) -> 0 | H21: =SUM(H20:H20) -> 0 | I21: =SUM(I20:I20) -> 0 | J21: =SUM(J20:J20) -> 0 | ... L21: =SUM(L20:L20) -> 0 | M21: =IF(J21>0, L21/J21, "-") -> -

Sheet Partner 4
B2: PARTNER #4 | C2: ='Partner list'!C8 -> Partner 4
C5: WP1 | D5: WP2 | E5: WP3 | F5: WP4 | G5: WP5 | H5: WP6 | I5: WP7 | J5: WP8 | K5: WP9 | L5: WP10
B6: Personnel costs
B7: Subcontracting
B8: Travel & Substinence
B9: Equipment
B10: Other goods & services
B11: Internally invoiced goods & services
B12: Indirect costs | C12: =SUM(C6,C8,C9,C10,C11)*0.25 -> 0 | D12: =SUM(D6,D8,D9,D10,D11)*0.25 -> 0 | E12: =SUM(E6,E8,E9,E10,E11)*0.25 -> 0 | F12: =SUM(F6,F8,F9,F10,F11)*0.25 -> 0 | G12: =SUM(G6,G8,G9,G10,G11)*0.25 -> 0 | H12: =SUM(H6,H8,H9,H10,H11)*0.25 -> 0 | I12: =SUM(I6,I8,I9,I10,I11)*0.25 -> 0 | J12: =SUM(J6,J8,J9,J10,J11)*0.25 -> 0 | ... L12: =SUM(L6,L8,L9,L10,L11)*0.25 -> 0
B13: Total eligible costs | C13: =SUM(C6:C12) -> 0 | D13: =SUM(D6:D12) -> 0 | E13: =SUM(E6:E12) -> 0 | F13: =SUM(F6:F12) -> 0 | G13: =SUM(G6:G12) -> 0 | H13: =SUM(H6:H12) -> 0 | I13: =SUM(I6:I12) -> 0 | J13: =SUM(J6:J12) -> 0 | ... L13: =SUM(L6:L12) -> 0
B15: Requested EIT contribution to eligible costs
B16: Calculated co-funding | C16: =C13-C15 -> 0 | D16: =D13-D15 -> 0 | E16: =E13-E15 -> 0 | F16: =F13-F15 -> 0 | G16: =G13-G15 -> 0 | H16: =H13-H15 -> 0 | I16: =I13-I15 -> 0 | J16: =J13-J15 -> 0 | ... L16: =L13-L15 -> 0
B17: Co-funding rate | C17: =IF(C13>0, C16/C13, "-") -> - | D17: =IF(D13>0, D16/D13, "-") -> - | E17: =IF(E13>0, E16/E13, "-") -> - | F17: =IF(F13>0, F16/F13, "-") -> - | G17: =IF(G13>0, G16/G13, "-") -> - | H17: =IF(H13>0, H16/H13, "-") -> - | I17: =IF(I13>0, I16/I13, "-") -> - | J17: =IF(J13>0, J16/J13, "-") -> - | ... L17: =IF(L13>0, L16/L13, "-") -> -
C19: Personnel costs | D19: Subcontracting | E19: Travel & Substinence | F19: Equipment | G19: Other goods & services | H19: Internally invoiced goods & services | I19: Indirect costs | J19: Total eligible costs | K19: Requested EIT contribution to eligible costs | L19: Calculated co-funding | M19: Co-funding rate
B20: 2025-2026 | C20: =C6+D6+E6+F6+G6+H6+I6+J6+K6+L6 -> 0 | D20: =C7+D7+E7+F7+G7+H7+I7+J7+K7+L7 -> 0 | E20: =C8+D8+E8+F8+G8+H8+I8+J8+K8+L8 -> 0 | F20: =C9+D9+E9+F9+G9+H9+I9+J9+K9+L9 -> 0 | G20: =C10+D10+E10+F10+G10+H10+I10+J10+K10+L10 -> 0 | H20: =C11+D11+E11+F11+G11+H11+I11+J11+K11+L11 -> 0 | I20: =C12+D12+E12+F12+G12+H12+I12+J12+K12+L12 -> 0 | J20: =C13+D13+E13+F13+G13+H13+I13+J13+K13+L13 -> 0 | K20: =C15+D15+E15+F15+G15+H15+I15+J15+K15+L15 -> 0 | L20: =C16+D16+E16+F16+G16+H16+I16+J16+K16+L16 -> 0 | M20: =IF(J20>0, L20/J20, "-") -> -
B21: TOTAL | C21: =SUM(C20:C20) -> 0 | D21: =SUM(D20:D20) -> 0 | E21: =SUM(E20:E20) -> 0 | F21: =SUM(F20:F20) -> 0 | G21: =SUM(G20:G20) -> 0 | H21: =SUM(H20:H20) -> 0 | I21: =SUM(I20:I20) -> 0 | J21: =SUM(J20:J20) -> 0 | ... L21: =SUM(L20:L20) -> 0 | M21: =IF(J21>0, L21/J21, "-") -> -

Sheet Partner 5
B2: PARTNER #5 | C2: ='Partner list'!C9 -> Partner 5
C5: WP1 | D5: WP2 | E5: WP3 | F5: WP4 | G5: WP5 | H5: WP6 | I5: WP7 | J5: WP8 | K5: WP9 | L5: WP10
B6: Personnel costs
B7: Subcontracting
B8: Travel & Substinence
B9: Equipment
B10: Other goods & services
B11: Internally invoiced goods & services
B12: Indirect costs | C12: =SUM(C6,C8,C9,C10,C11)*0.25 -> 0 | D12: =SUM(D6,D8,D9,D10,D11)*0.25 -> 0 | E12: =SUM(E6,E8,E9,E10,E11)*0.25 -> 0 | F12: =SUM(F6,F8,F9,F10,F11)*0.25 -> 0 | G12: =SUM(G6,G8,G9,G10,G11)*0.25 -> 0 | H12: =SUM(H6,H8,H9,H10,H11)*0.25 -> 0 | I12: =SUM(I6,I8,I9,I10,I11)*0.25 -> 0 | J12: =SUM(J6,J8,J9,J10,J11)*0.25 -> 0 | ... L12: =SUM(L6,L8,L9,L10,L11)*0.25 -> 0
B13: Total eligible costs | C13: =SUM(C6:C12) -> 0 | D13: =SUM(D6:D12) -> 0 | E13: =SUM(E6:E12) -> 0 | F13: =SUM(F6:F12) -> 0 | G13: =SUM(G6:G12) -> 0 | H13: =SUM(H6:H12) -> 0 | I13: =SUM(I6:I12) -> 0 | J13: =SUM(J6:J12) -> 0 | ... L13: =SUM(L6:L12) -> 0
B15: Requested EIT contribution to eligible costs
B16: Calculated co-funding | C16: =C13-C15 -> 0 | D16: =D13-D15 -> 0 | E16: =E13-E15 -> 0 | F16: =F13-F15 -> 0 | G16: =G13-G15 -> 0 | H16: =H13-H15 -> 0 | I16: =I13-I15 -> 0 | J16: =J13-J15 -> 0 | ... L16: =L13-L15 -> 0
B17: Co-funding rate | C17: =IF(C13>0, C16/C13, "-") -> - | D17: =IF(D13>0, D16/D13, "-") -> - | E17: =IF(E13>0, E16/E13, "-") -> - | F17: =IF(F13>0, F16/F13, "-") -> - | G17: =IF(G13>0, G16/G13, "-") -> - | H17: =IF(H13>0, H16/H13, "-") -> - | I17: =IF(I13>0, I16/I13, "-") -> - | J17: =IF(J13>0, J16/J13, "-") -> - | ... L17: =IF(L13>0, L16/L13, "-") -> -
C19: Personnel costs | D19: Subcontracting | E19: Travel & Substinence | F19: Equipment | G19: Other goods & services | H19: Internally invoiced goods & services | I19: Indirect costs | J19: Total eligible costs | K19: Requested EIT contribution to eligible costs | L19: Calculated co-funding | M19: Co-funding rate
B20: 2025-2026 | C20: =C6+D6+E6+F6+G6+H6+I6+J6+K6+L6 -> 0 | D20: =C7+D7+E7+F7+G7+H7+I7+J7+K7+L7 -> 0 | E20: =C8+D8+E8+F8+G8+H8+I8+J8+K8+L8 -> 0 | F20: =C9+D9+E9+F9+G9+H9+I9+J9+K9+L9 -> 0 | G20: =C10+D10+E10+F10+G10+H10+I10+J10+K10+L10 -> 0 | H20: =C11+D11+E11+F11+G11+H11+I11+J11+K11+L11 -> 0 | I20: =C12+D12+E12+F12+G12+H12+I12+J12+K12+L12 -> 0 | J20: =C13+D13+E13+F13+G13+H13+I13+J13+K13+L13 -> 0 | K20: =C15+D15+E15+F15+G15+H15+I15+J15+K15+L15 -> 0 | L20: =C16+D16+E16+F16+G16+H16+I16+J16+K16+L16 -> 0 | M20: =IF(J20>0, L20/J20, "-") -> -
B21: TOTAL | C21: =SUM(C20:C20) -> 0 | D21: =SUM(D20:D20) -> 0 | E21: =SUM(E20:E20) -> 0 | F21: =SUM(F20:F20) -> 0 | G21: =SUM(G20:G20) -> 0 | H21: =SUM(H20:H20) -> 0 | I21: =SUM(I20:I20) -> 0 | J21: =SUM(J20:J20) -> 0 | ... L21: =SUM(L20:L20) -> 0 | M21: =IF(J21>0, L21/J21, "-") -> -

Sheet Partner 6
B2: PARTNER #6 | C2: ='Partner list'!C10 -> Partner 6
C5: WP1 | D5: WP2 | E5: WP3 | F5: WP4 | G5: WP5 | H5: WP6 | I5: WP7 | J5: WP8 | K5: WP9 | L5: WP10
B6: Personnel costs
B7: Subcontracting
B8: Travel & Substinence
B9: Equipment
B10: Other goods & services
B11: Internally invoiced goods & services
B12: Indirect costs | C12: =SUM(C6,C8,C9,C10,C11)*0.25 -> 0 | D12: =SUM(D6,D8,D9,D10,D11)*0.25 -> 0 | E12: =SUM(E6,E8,E9,E10,E11)*0.25 -> 0 | F12: =SUM(F6,F8,F9,F10,F11)*0.25 -> 0 | G12: =SUM(G6,G8,G9,G10,G11)*0.25 -> 0 | H12: =SUM(H6,H8,H9,H10,H11)*0.25 -> 0 | I12: =SUM(I6,I8,I9,I10,I11)*0.25 -> 0 | J12: =SUM(J6,J8,J9,J10,J11)*0.25 -> 0 | ... L12: =SUM(L6,L8,L9,L10,L11)*0.25 -> 0
B13: Total eligible costs | C13: =SUM(C6:C12) -> 0 | D13: =SUM(D6:D12) -> 0 | E13: =SUM(E6:E12) -> 0 | F13: =SUM(F6:F12) -> 0 | G13: =SUM(G6:G12) -> 0 | H13: =SUM(H6:H12) -> 0 | I13: =SUM(I6:I12) -> 0 | J13: =SUM(J6:J12) -> 0 | ... L13: =SUM(L6:L12) -> 0
B15: Requested EIT contribution to eligible costs
B16: Calculated co-funding | C16: =C13-C15 -> 0 | D16: =D13-D15 -> 0 | E16: =E13-E15 -> 0 | F16: =F13-F15 -> 0 | G16: =G13-G15 -> 0 | H16: =H13-H15 -> 0 | I16: =I13-I15 -> 0 | J16: =J13-J15 -> 0 | ... L16: =L13-L15 -> 0
B17: Co-funding rate | C17: =IF(C13>0, C16/C13, "-") -> - | D17: =IF(D13>0, D16/D13, "-") -> - | E17: =IF(E13>0, E16/E13, "-") -> - | F17: =IF(F13>0, F16/F13, "-") -> - | G17: =IF(G13>0, G16/G13, "-") -> - | H17: =IF(H13>0, H16/H13, "-") -> - | I17: =IF(I13>0, I16/I13, "-") -> - | J17: =IF(J13>0, J16/J13, "-") -> - | ... L17: =IF(L13>0, L16/L13, "-") -> -
C19: Personnel costs | D19: Subcontracting | E19: Travel & Substinence | F19: Equipment | G19: Other goods & services | H19: Internally invoiced goods & services | I19: Indirect costs | J19: Total eligible costs | K19: Requested EIT contribution to eligible costs | L19: Calculated co-funding | M19: Co-funding rate
B20: 2025-2026 | C20: =C6+D6+E6+F6+G6+H6+I6+J6+K6+L6 -> 0 | D20: =C7+D7+E7+F7+G7+H7+I7+J7+K7+L7 -> 0 | E20: =C8+D8+E8+F8+G8+H8+I8+J8+K8+L8 -> 0 | F20: =C9+D9+E9+F9+G9+H9+I9+J9+K9+L9 -> 0 | G20: =C10+D10+E10+F10+G10+H10+I10+J10+K10+L10 -> 0 | H20: =C11+D11+E11+F11+G11+H11+I11+J11+K11+L11 -> 0 | I20: =C12+D12+E12+F12+G12+H12+I12+J12+K12+L12 -> 0 | J20: =C13+D13+E13+F13+G13+H13+I13+J13+K13+L13 -> 0 | K20: =C15+D15+E15+F15+G15+H15+I15+J15+K15+L15 -> 0 | L20: =C16+D16+E16+F16+G16+H16+I16+J16+K16+L16 -> 0 | M20: =IF(J20>0, L20/J20, "-") -> -
B21: TOTAL | C21: =SUM(C20:C20) -> 0 | D21: =SUM(D20:D20) -> 0 | E21: =SUM(E20:E20) -> 0 | F21: =SUM(F20:F20) -> 0 | G21: =SUM(G20:G20) -> 0 | H21: =SUM(H20:H20) -> 0 | I21: =SUM(I20:I20) -> 0 | J21: =SUM(J20:J20) -> 0 | ... L21: =SUM(L20:L20) -> 0 | M21: =IF(J21>0, L21/J21, "-") -> -

Sheet Partner 7
B2: PARTNER #7 | C2: ='Partner list'!C11 -> Partner 7
C5: WP1 | D5: WP2 | E5: WP3 | F5: WP4 | G5: WP5 | H5: WP6 | I5: WP7 | J5: WP8 | K5: WP9 | L5: WP10
B6: Personnel costs
B7: Subcontracting
B8: Travel & Substinence
B9: Equipment
B10: Other goods & services
B11: Internally invoiced goods & services
B12: Indirect costs | C12: =SUM(C6,C8,C9,C10,C11)*0.25 -> 0 | D12: =SUM(D6,D8,D9,D10,D11)*0.25 -> 0 | E12: =SUM(E6,E8,E9,E10,E11)*0.25 -> 0 | F12: =SUM(F6,F8,F9,F10,F11)*0.25 -> 0 | G12: =SUM(G6,G8,G9,G10,G11)*0.25 -> 0 | H12: =SUM(H6,H8,H9,H10,H11)*0.25 -> 0 | I12: =SUM(I6,I8,I9,I10,I11)*0.25 -> 0 | J12: =SUM(J6,J8,J9,J10,J11)*0.25 -> 0 | ... L12: =SUM(L6,L8,L9,L10,L11)*0.25 -> 0
B13: Total eligible costs | C13: =SUM(C6:C12) -> 0 | D13: =SUM(D6:D12) -> 0 | E13: =SUM(E6:E12) -> 0 | F13: =SUM(F6:F12) -> 0 | G13: =SUM(G6:G12) -> 0 | H13: =SUM(H6:H12) -> 0 | I13: =SUM(I6:I12) -> 0 | J13: =SUM(J6:J12) -> 0 | ... L13: =SUM(L6:L12) -> 0
B15: Requested EIT contribution to eligible costs
B16: Calculated co-funding | C16: =C13-C15 -> 0 | D16: =D13-D15 -> 0 | E16: =E13-E15 -> 0 | F16: =F13-F15 -> 0 | G16: =G13-G15 -> 0 | H16: =H13-H15 -> 0 | I16: =I13-I15 -> 0 | J16: =J13-J15 -> 0 | ... L16: =L13-L15 -> 0
B17: Co-funding rate | C17: =IF(C13>0, C16/C13, "-") -> - | D17: =IF(D13>0, D16/D13, "-") -> - | E17: =IF(E13>0, E16/E13, "-") -> - | F17: =IF(F13>0, F16/F13, "-") -> - | G17: =IF(G13>0, G16/G13, "-") -> - | H17: =IF(H13>0, H16/H13, "-") -> - | I17: =IF(I13>0, I16/I13, "-") -> - | J17: =IF(J13>0, J16/J13, "-") -> - | ... L17: =IF(L13>0, L16/L13, "-") -> -
C19: Personnel costs | D19: Subcontracting | E19: Travel & Substinence | F19: Equipment | G19: Other goods & services | H19: Internally invoiced goods & services | I19: Indirect costs | J19: Total eligible costs | K19: Requested EIT contribution to eligible costs | L19: Calculated co-funding | M19: Co-funding rate
B20: 2025-2026 | C20: =C6+D6+E6+F6+G6+H6+I6+J6+K6+L6 -> 0 | D20: =C7+D7+E7+F7+G7+H7+I7+J7+K7+L7 -> 0 | E20: =C8+D8+E8+F8+G8+H8+I8+J8+K8+L8 -> 0 | F20: =C9+D9+E9+F9+G9+H9+I9+J9+K9+L9 -> 0 | G20: =C10+D10+E10+F10+G10+H10+I10+J10+K10+L10 -> 0 | H20: =C11+D11+E11+F11+G11+H11+I11+J11+K11+L11 -> 0 | I20: =C12+D12+E12+F12+G12+H12+I12+J12+K12+L12 -> 0 | J20: =C13+D13+E13+F13+G13+H13+I13+J13+K13+L13 -> 0 | K20: =C15+D15+E15+F15+G15+H15+I15+J15+K15+L15 -> 0 | L20: =C16+D16+E16+F16+G16+H16+I16+J16+K16+L16 -> 0 | M20: =IF(J20>0, L20/J20, "-") -> -
B21: TOTAL | C21: =SUM(C20:C20) -> 0 | D21: =SUM(D20:D20) -> 0 | E21: =SUM(E20:E20) -> 0 | F21: =SUM(F20:F20) -> 0 | G21: =SUM(G20:G20) -> 0 | H21: =SUM(H20:H20) -> 0 | I21: =SUM(I20:I20) -> 0 | J21: =SUM(J20:J20) -> 0 | ... L21: =SUM(L20:L20) -> 0 | M21: =IF(J21>0, L21/J21, "-") -> -

Sheet Partner 8
B2: PARTNER #8 | C2: ='Partner list'!C12 -> Partner 8
C5: WP1 | D5: WP2 | E5: WP3 | F5: WP4 | G5: WP5 | H5: WP6 | I5: WP7 | J5: WP8 | K5: WP9 | L5: WP10
B6: Personnel costs
B7: Subcontracting
B8: Travel & Substinence
B9: Equipment
B10: Other goods & services
B11: Internally invoiced goods & services
B12: Indirect costs | C12: =SUM(C6,C8,C9,C10,C11)*0.25 -> 0 | D12: =SUM(D6,D8,D9,D10,D11)*0.25 -> 0 | E12: =SUM(E6,E8,E9,E10,E11)*0.25 -> 0 | F12: =SUM(F6,F8,F9,F10,F11)*0.25 -> 0 | G12: =SUM(G6,G8,G9,G10,G11)*0.25 -> 0 | H12: =SUM(H6,H8,H9,H10,H11)*0.25 -> 0 | I12: =SUM(I6,I8,I9,I10,I11)*0.25 -> 0 | J12: =SUM(J6,J8,J9,J10,J11)*0.25 -> 0 | ... L12: =SUM(L6,L8,L9,L10,L11)*0.25 -> 0
B13: Total eligible costs | C13: =SUM(C6:C12) -> 0 | D13: =SUM(D6:D12) -> 0 | E13: =SUM(E6:E12) -> 0 | F13: =SUM(F6:F12) -> 0 | G13: =SUM(G6:G12) -> 0 | H13: =SUM(H6:H12) -> 0 | I13: =SUM(I6:I12) -> 0 | J13: =SUM(J6:J12) -> 0 | ... L13: =SUM(L6:L12) -> 0
B15: Requested EIT contribution to eligible costs
B16: Calculated co-funding | C16: =C13-C15 -> 0 | D16: =D13-D15 -> 0 | E16: =E13-E15 -> 0 | F16: =F13-F15 -> 0 | G16: =G13-G15 -> 0 | H16: =H13-H15 -> 0 | I16: =I13-I15 -> 0 | J16: =J13-J15 -> 0 | ... L16: =L13-L15 -> 0
B17: Co-funding rate | C17: =IF(C13>0, C16/C13, "-") -> - | D17: =IF(D13>0, D16/D13, "-") -> - | E17: =IF(E13>0, E16/E13, "-") -> - | F17: =IF(F13>0, F16/F13, "-") -> - | G17: =IF(G13>0, G16/G13, "-") -> - | H17: =IF(H13>0, H16/H13, "-") -> - | I17: =IF(I13>0, I16/I13, "-") -> - | J17: =IF(J13>0, J16/J13, "-") -> - | ... L17: =IF(L13>0, L16/L13, "-") -> -
C19: Personnel costs | D19: Subcontracting | E19: Travel & Substinence | F19: Equipment | G19: Other goods & services | H19: Internally invoiced goods & services | I19: Indirect costs | J19: Total eligible costs | K19: Requested EIT contribution to eligible costs | L19: Calculated co-funding | M19: Co-funding rate
B20: 2025-2026 | C20: =C6+D6+E6+F6+G6+H6+I6+J6+K6+L6 -> 0 | D20: =C7+D7+E7+F7+G7+H7+I7+J7+K7+L7 -> 0 | E20: =C8+D8+E8+F8+G8+H8+I8+J8+K8+L8 -> 0 | F20: =C9+D9+E9+F9+G9+H9+I9+J9+K9+L9 -> 0 | G20: =C10+D10+E10+F10+G10+H10+I10+J10+K10+L10 -> 0 | H20: =C11+D11+E11+F11+G11+H11+I11+J11+K11+L11 -> 0 | I20: =C12+D12+E12+F12+G12+H12+I12+J12+K12+L12 -> 0 | J20: =C13+D13+E13+F13+G13+H13+I13+J13+K13+L13 -> 0 | K20: =C15+D15+E15+F15+G15+H15+I15+J15+K15+L15 -> 0 | L20: =C16+D16+E16+F16+G16+H16+I16+J16+K16+L16 -> 0 | M20: =IF(J20>0, L20/J20, "-") -> -
B21: TOTAL | C21: =SUM(C20:C20) -> 0 | D21: =SUM(D20:D20) -> 0 | E21: =SUM(E20:E20) -> 0 | F21: =SUM(F20:F20) -> 0 | G21: =SUM(G20:G20) -> 0 | H21: =SUM(H20:H20) -> 0 | I21: =SUM(I20:I20) -> 0 | J21: =SUM(J20:J20) -> 0 | ... L21: =SUM(L20:L20) -> 0 | M21: =IF(J21>0, L21/J21, "-") -> -

Sheet Partner 9
B2: PARTNER #9 | C2: ='Partner list'!C13 -> Partner 9
C5: WP1 | D5: WP2 | E5: WP3 | F5: WP4 | G5: WP5 | H5: WP6 | I5: WP7 | J5: WP8 | K5: WP9 | L5: WP10
B6: Personnel costs
B7: Subcontracting
B8: Travel & Substinence
B9: Equipment
B10: Other goods & services
B11: Internally invoiced goods & services
B12: Indirect costs | C12: =SUM(C6,C8,C9,C10,C11)*0.25 -> 0 | D12: =SUM(D6,D8,D9,D10,D11)*0.25 -> 0 | E12: =SUM(E6,E8,E9,E10,E11)*0.25 -> 0 | F12: =SUM(F6,F8,F9,F10,F11)*0.25 -> 0 | G12: =SUM(G6,G8,G9,G10,G11)*0.25 -> 0 | H12: =SUM(H6,H8,H9,H10,H11)*0.25 -> 0 | I12: =SUM(I6,I8,I9,I10,I11)*0.25 -> 0 | J12: =SUM(J6,J8,J9,J10,J11)*0.25 -> 0 | ... L12: =SUM(L6,L8,L9,L10,L11)*0.25 -> 0
B13: Total eligible costs | C13: =SUM(C6:C12) -> 0 | D13: =SUM(D6:D12) -> 0 | E13: =SUM(E6:E12) -> 0 | F13: =SUM(F6:F12) -> 0 | G13: =SUM(G6:G12) -> 0 | H13: =SUM(H6:H12) -> 0 | I13: =SUM(I6:I12) -> 0 | J13: =SUM(J6:J12) -> 0 | ... L13: =SUM(L6:L12) -> 0
B15: Requested EIT contribution to eligible costs
B16: Calculated co-funding | C16: =C13-C15 -> 0 | D16: =D13-D15 -> 0 | E16: =E13-E15 -> 0 | F16: =F13-F15 -> 0 | G16: =G13-G15 -> 0 | H16: =H13-H15 -> 0 | I16: =I13-I15 -> 0 | J16: =J13-J15 -> 0 | ... L16: =L13-L15 -> 0
B17: Co-funding rate | C17: =IF(C13>0, C16/C13, "-") -> - | D17: =IF(D13>0, D16/D13, "-") -> - | E17: =IF(E13>0, E16/E13, "-") -> - | F17: =IF(F13>0, F16/F13, "-") -> - | G17: =IF(G13>0, G16/G13, "-") -> - | H17: =IF(H13>0, H16/H13, "-") -> - | I17: =IF(I13>0, I16/I13, "-") -> - | J17: =IF(J13>0, J16/J13, "-") -> - | ... L17: =IF(L13>0, L16/L13, "-") -> -
C19: Personnel costs | D19: Subcontracting | E19: Travel & Substinence | F19: Equipment | G19: Other goods & services | H19: Internally invoiced goods & services | I19: Indirect costs | J19: Total eligible costs | K19: Requested EIT contribution to eligible costs | L19: Calculated co-funding | M19: Co-funding rate
B20: 2025-2026 | C20: =C6+D6+E6+F6+G6+H6+I6+J6+K6+L6 -> 0 | D20: =C7+D7+E7+F7+G7+H7+I7+J7+K7+L7 -> 0 | E20: =C8+D8+E8+F8+G8+H8+I8+J8+K8+L8 -> 0 | F20: =C9+D9+E9+F9+G9+H9+I9+J9+K9+L9 -> 0 | G20: =C10+D10+E10+F10+G10+H10+I10+J10+K10+L10 -> 0 | H20: =C11+D11+E11+F11+G11+H11+I11+J11+K11+L11 -> 0 | I20: =C12+D12+E12+F12+G12+H12+I12+J12+K12+L12 -> 0 | J20: =C13+D13+E13+F13+G13+H13+I13+J13+K13+L13 -> 0 | K20: =C15+D15+E15+F15+G15+H15+I15+J15+K15+L15 -> 0 | L20: =C16+D16+E16+F16+G16+H16+I16+J16+K16+L16 -> 0 | M20: =IF(J20>0, L20/J20, "-") -> -
B21: TOTAL | C21: =SUM(C20:C20) -> 0 | D21: =SUM(D20:D20) -> 0 | E21: =SUM(E20:E20) -> 0 | F21: =SUM(F20:F20) -> 0 | G21: =SUM(G20:G20) -> 0 | H21: =SUM(H20:H20) -> 0 | I21: =SUM(I20:I20) -> 0 | J21: =SUM(J20:J20) -> 0 | ... L21: =SUM(L20:L20) -> 0 | M21: =IF(J21>0, L21/J21, "-") -> -

Sheet Partner 10
B2: PARTNER #10 | C2: ='Partner list'!C14 -> Partner 10
C5: WP1 | D5: WP2 | E5: WP3 | F5: WP4 | G5: WP5 | H5: WP6 | I5: WP7 | J5: WP8 | K5: WP9 | L5: WP10
B6: Personnel costs
B7: Subcontracting
B8: Travel & Substinence
B9: Equipment
B10: Other goods & services
B11: Internally invoiced goods & services
B12: Indirect costs | C12: =SUM(C6,C8,C9,C10,C11)*0.25 -> 0 | D12: =SUM(D6,D8,D9,D10,D11)*0.25 -> 0 | E12: =SUM(E6,E8,E9,E10,E11)*0.25 -> 0 | F12: =SUM(F6,F8,F9,F10,F11)*0.25 -> 0 | G12: =SUM(G6,G8,G9,G10,G11)*0.25 -> 0 | H12: =SUM(H6,H8,H9,H10,H11)*0.25 -> 0 | I12: =SUM(I6,I8,I9,I10,I11)*0.25 -> 0 | J12: =SUM(J6,J8,J9,J10,J11)*0.25 -> 0 | ... L12: =SUM(L6,L8,L9,L10,L11)*0.25 -> 0
B13: Total eligible costs | C13: =SUM(C6:C12) -> 0 | D13: =SUM(D6:D12) -> 0 | E13: =SUM(E6:E12) -> 0 | F13: =SUM(F6:F12) -> 0 | G13: =SUM(G6:G12) -> 0 | H13: =SUM(H6:H12) -> 0 | I13: =SUM(I6:I12) -> 0 | J13: =SUM(J6:J12) -> 0 | ... L13: =SUM(L6:L12) -> 0
B15: Requested EIT contribution to eligible costs
B16: Calculated co-funding | C16: =C13-C15 -> 0 | D16: =D13-D15 -> 0 | E16: =E13-E15 -> 0 | F16: =F13-F15 -> 0 | G16: =G13-G15 -> 0 | H16: =H13-H15 -> 0 | I16: =I13-I15 -> 0 | J16: =J13-J15 -> 0 | ... L16: =L13-L15 -> 0
B17: Co-funding rate | C17: =IF(C13>0, C16/C13, "-") -> - | D17: =IF(D13>0, D16/D13, "-") -> - | E17: =IF(E13>0, E16/E13, "-") -> - | F17: =IF(F13>0, F16/F13, "-") -> - | G17: =IF(G13>0, G16/G13, "-") -> - | H17: =IF(H13>0, H16/H13, "-") -> - | I17: =IF(I13>0, I16/I13, "-") -> - | J17: =IF(J13>0, J16/J13, "-") -> - | ... L17: =IF(L13>0, L16/L13, "-") -> -
C19: Personnel costs | D19: Subcontracting | E19: Travel & Substinence | F19: Equipment | G19: Other goods & services | H19: Internally invoiced goods & services | I19: Indirect costs | J19: Total eligible costs | K19: Requested EIT contribution to eligible costs | L19: Calculated co-funding | M19: Co-funding rate
B20: 2025-2026 | C20: =C6+D6+E6+F6+G6+H6+I6+J6+K6+L6 -> 0 | D20: =C7+D7+E7+F7+G7+H7+I7+J7+K7+L7 -> 0 | E20: =C8+D8+E8+F8+G8+H8+I8+J8+K8+L8 -> 0 | F20: =C9+D9+E9+F9+G9+H9+I9+J9+K9+L9 -> 0 | G20: =C10+D10+E10+F10+G10+H10+I10+J10+K10+L10 -> 0 | H20: =C11+D11+E11+F11+G11+H11+I11+J11+K11+L11 -> 0 | I20: =C12+D12+E12+F12+G12+H12+I12+J12+K12+L12 -> 0 | J20: =C13+D13+E13+F13+G13+H13+I13+J13+K13+L13 -> 0 | K20: =C15+D15+E15+F15+G15+H15+I15+J15+K15+L15 -> 0 | L20: =C16+D16+E16+F16+G16+H16+I16+J16+K16+L16 -> 0 | M20: =IF(J20>0, L20/J20, "-") -> -
B21: TOTAL | C21: =SUM(C20:C20) -> 0 | D21: =SUM(D20:D20) -> 0 | E21: =SUM(E20:E20) -> 0 | F21: =SUM(F20:F20) -> 0 | G21: =SUM(G20:G20) -> 0 | H21: =SUM(H20:H20) -> 0 | I21: =SUM(I20:I20) -> 0 | J21: =SUM(J20:J20) -> 0 | ... L21: =SUM(L20:L20) -> 0 | M21: =IF(J21>0, L21/J21, "-") -> -

Sheet WP budget per year & partner
B3: Partner | C3: WP1 | D3: WP2 | E3: WP3 | F3: WP4 | G3: WP5 | H3: WP6 | I3: WP7 | J3: WP8 | K3: WP9 | L3: WP10
C4: Total | D4: Total | E4: Total | F4: Total | G4: Total | H4: Total | I4: Total | J4: Total | K4: Total | L4: Total
B5: ='Partner list'!C5 -> Partner 1 | C5: ='Partner 1'!$C$13 -> 0 | D5: ='Partner 1'!$D$13 -> 0 | E5: ='Partner 1'!$E$13 -> 0 | F5: ='Partner 1'!$F$13 -> 0 | G5: ='Partner 1'!$G$13 -> 0 | H5: ='Partner 1'!$H$13 -> 0 | I5: ='Partner 1'!$I$13 -> 0 | J5: ='Partner 1'!$J$13 -> 0 | K5: ='Partner 1'!$K$13 -> 0 | L5: ='Partner 1'!$L$13 -> 0
B6: ='Partner list'!C6 -> Partner 2 | C6: ='Partner 2'!$C$13 -> 0 | D6: ='Partner 2'!$D$13 -> 0 | E6: ='Partner 2'!$E$13 -> 0 | F6: ='Partner 2'!$F$13 -> 0 | G6: ='Partner 2'!$G$13 -> 0 | H6: ='Partner 2'!$H$13 -> 0 | I6: ='Partner 2'!$I$13 -> 0 | J6: ='Partner 2'!$J$13 -> 0 | K6: ='Partner 2'!$K$13 -> 0 | L6: ='Partner 2'!$L$13 -> 0
B7: ='Partner list'!C7 -> Partner 3 | C7: ='Partner 3'!$C$13 -> 0 | D7: ='Partner 3'!$D$13 -> 0 | E7: ='Partner 3'!$E$13 -> 0 | F7: ='Partner 3'!$F$13 -> 0 | G7: ='Partner 3'!$G$13 -> 0 | H7: ='Partner 3'!$H$13 -> 0 | I7: ='Partner 3'!$I$13 -> 0 | J7: ='Partner 3'!$J$13 -> 0 | K7: ='Partner 3'!$K$13 -> 0 | L7: ='Partner 3'!$L$13 -> 0
B8: ='Partner list'!C8 -> Partner 4 | C8: ='Partner 4'!$C$13 -> 0 | D8: ='Partner 4'!$D$13 -> 0 | E8: ='Partner 4'!$E$13 -> 0 | F8: ='Partner 4'!$F$13 -> 0 | G8: ='Partner 4'!$G$13 -> 0 | H8: ='Partner 4'!$H$13 -> 0 | I8: ='Partner 4'!$I$13 -> 0 | J8: ='Partner 4'!$J$13 -> 0 | K8: ='Partner 4'!$K$13 -> 0 | L8: ='Partner 4'!$L$13 -> 0
B9: ='Partner list'!C9 -> Partner 5 | C9: ='Partner 5'!$C$13 -> 0 | D9: ='Partner 5'!$D$13 -> 0 | E9: ='Partner 5'!$E$13 -> 0 | F9: ='Partner 5'!$F$13 -> 0 | G9: ='Partner 5'!$G$13 -> 0 | H9: ='Partner 5'!$H$13 -> 0 | I9: ='Partner 5'!$I$13 -> 0 | J9: ='Partner 5'!$J$13 -> 0 | K9: ='Partner 5'!$K$13 -> 0 | L9: ='Partner 5'!$L$13 -> 0
B10: ='Partner list'!C10 -> Partner 6 | C10: ='Partner 6'!$C$13 -> 0 | D10: ='Partner 6'!$D$13 -> 0 | E10: ='Partner 6'!$E$13 -> 0 | F10: ='Partner 6'!$F$13 -> 0 | G10: ='Partner 6'!$G$13 -> 0 | H10: ='Partner 6'!$H$13 -> 0 | I10: ='Partner 6'!$I$13 -> 0 | J10: ='Partner 6'!$J$13 -> 0 | K10: ='Partner 6'!$K$13 -> 0 | L10: ='Partner 6'!$L$13 -> 0
B11: ='Partner list'!C11 -> Partner 7 | C11: ='Partner 7'!$C$13 -> 0 | D11: ='Partner 7'!$D$13 -> 0 | E11: ='Partner 7'!$E$13 -> 0 | F11: ='Partner 7'!$F$13 -> 0 | G11: ='Partner 7'!$G$13 -> 0 | H11: ='Partner 7'!$H$13 -> 0 | I11: ='Partner 7'!$I$13 -> 0 | J11: ='Partner 7'!$J$13 -> 0 | K11: ='Partner 7'!$K$13 -> 0 | L11: ='Partner 7'!$L$13 -> 0
B12: ='Partner list'!C12 -> Partner 8 | C12: ='Partner 8'!$C$13 -> 0 | D12: ='Partner 8'!$D$13 -> 0 | E12: ='Partner 8'!$E$13 -> 0 | F12: ='Partner 8'!$F$13 -> 0 | G12: ='Partner 8'!$G$13 -> 0 | H12: ='Partner 8'!$H$13 -> 0 | I12: ='Partner 8'!$I$13 -> 0 | J12: ='Partner 8'!$J$13 -> 0 | K12: ='Partner 8'!$K$13 -> 0 | L12: ='Partner 8'!$L$13 -> 0
B13: ='Partner list'!C13 -> Partner 9 | C13: ='Partner 9'!$C$13 -> 0 | D13: ='Partner 9'!$D$13 -> 0 | E13: ='Partner 9'!$E$13 -> 0 | F13: ='Partner 9'!$F$13 -> 0 | G13: ='Partner 9'!$G$13 -> 0 | H13: ='Partner 9'!$H$13 -> 0 | I13: ='Partner 9'!$I$13 -> 0 | J13: ='Partner 9'!$J$13 -> 0 | K13: ='Partner 9'!$K$13 -> 0 | L13: ='Partner 9'!$L$13 -> 0
B14: ='Partner list'!C14 -> Partner 10 | C14: ='Partner 10'!$C$13 -> 0 | D14: ='Partner 10'!$D$13 -> 0 | E14: ='Partner 10'!$E$13 -> 0 | F14: ='Partner 10'!$F$13 -> 0 | G14: ='Partner 10'!$G$13 -> 0 | H14: ='Partner 10'!$H$13 -> 0 | I14: ='Partner 10'!$I$13 -> 0 | J14: ='Partner 10'!$J$13 -> 0 | K14: ='Partner 10'!$K$13 -> 0 | L14: ='Partner 10'!$L$13 -> 0
B15: TOTAL | C15: =SUM(C5:C14) -> 0 | D15: =SUM(D5:D14) -> 0 | E15: =SUM(E5:E14) -> 0 | F15: =SUM(F5:F14) -> 0 | G15: =SUM(G5:G14) -> 0 | H15: =SUM(H5:H14) -> 0 | I15: =SUM(I5:I14) -> 0 | J15: =SUM(J5:J14) -> 0 | ... L15: =SUM(L5:L14) -> 0

Sheet Buget per Category & partner
B3: Partner | C3: Personnel costs | D3: Subcontracting | E3: Travel & Substinence | F3: Equipment | G3: Other goods & services | H3: Internally invoiced goods & services | I3: Indirect costs | J3: Total eligible costs | K3: Requested EIT contribution | L3: Calculated co-funding | M3: Co-funding rate
C4: Total | D4: Total | E4: Total | F4: Total | G4: Total | H4: Total | I4: Total | J4: Total | K4: Total | L4: Total | M4: Total
B5: ='Partner list'!C5 -> Partner 1 | C5: ='Partner 1'!C20 -> 0 | D5: ='Partner 1'!D20 -> 0 | E5: ='Partner 1'!E20 -> 0 | F5: ='Partner 1'!F20 -> 0 | G5: ='Partner 1'!G20 -> 0 | H5: ='Partner 1'!H20 -> 0 | I5: ='Partner 1'!I20 -> 0 | J5: ='Partner 1'!J20 -> 0 | ... L5: ='Partner 1'!L20 -> 0 | M5: ='Partner 1'!M21 -> -
B6: ='Partner list'!C6 -> Partner 2 | C6: ='Partner 2'!C20 -> 0 | D6: ='Partner 2'!D20 -> 0 | E6: ='Partner 2'!E20 -> 0 | F6: ='Partner 2'!F20 -> 0 | G6: ='Partner 2'!G20 -> 0 | H6: ='Partner 2'!H20 -> 0 | I6: ='Partner 2'!I20 -> 0 | J6: ='Partner 2'!J20 -> 0 | ... L6: ='Partner 2'!L20 -> 0 | M6: ='Partner 2'!M21 -> -
B7: ='Partner list'!C7 -> Partner 3 | C7: ='Partner 3'!C20 -> 0 | D7: ='Partner 3'!D20 -> 0 | E7: ='Partner 3'!E20 -> 0 | F7: ='Partner 3'!F20 -> 0 | G7: ='Partner 3'!G20 -> 0 | H7: ='Partner 3'!H20 -> 0 | I7: ='Partner 3'!I20 -> 0 | J7: ='Partner 3'!J20 -> 0 | ... L7: ='Partner 3'!L20 -> 0 | M7: ='Partner 3'!M21 -> -
B8: ='Partner list'!C8 -> Partner 4 | C8: ='Partner 4'!C20 -> 0 | D8: ='Partner 4'!D20 -> 0 | E8: ='Partner 4'!E20 -> 0 | F8: ='Partner 4'!F20 -> 0 | G8: ='Partner 4'!G20 -> 0 | H8: ='Partner 4'!H20 -> 0 | I8: ='Partner 4'!I20 -> 0 | J8: ='Partner 4'!J20 -> 0 | ... L8: ='Partner 4'!L20 -> 0 | M8: ='Partner 4'!M21 -> -
B9: ='Partner list'!C9 -> Partner 5 | C9: ='Partner 5'!C20 -> 0 | D9: ='Partner 5'!D20 -> 0 | E9: ='Partner 5'!E20 -> 0 | F9: ='Partner 5'!F20 -> 0 | G9: ='Partner 5'!G20 -> 0 | H9: ='Partner 5'!H20 -> 0 | I9: ='Partner 5'!I20 -> 0 | J9: ='Partner 5'!J20 -> 0 | ... L9: ='Partner 5'!L20 -> 0 | M9: ='Partner 5'!M21 -> -
B10: ='Partner list'!C10 -> Partner 6 | C10: ='Partner 6'!C20 -> 0 | D10: ='Partner 6'!D20 -> 0 | E10: ='Partner 6'!E20 -> 0 | F10: ='Partner 6'!F20 -> 0 | G10: ='Partner 6'!G20 -> 0 | H10: ='Partner 6'!H20 -> 0 | I10: ='Partner 6'!I20 -> 0 | J10: ='Partner 6'!J20 -> 0 | ... L10: ='Partner 6'!L20 -> 0 | M10: ='Partner 6'!M21 -> -
B11: ='Partner list'!C11 -> Partner 7 | C11: ='Partner 7'!C20 -> 0 | D11: ='Partner 7'!D20 -> 0 | E11: ='Partner 7'!E20 -> 0 | F11: ='Partner 7'!F20 -> 0 | G11: ='Partner 7'!G20 -> 0 | H11: ='Partner 7'!H20 -> 0 | I11: ='Partner 7'!I20 -> 0 | J11: ='Partner 7'!J20 -> 0 | ... L11: ='Partner 7'!L20 -> 0 | M11: ='Partner 7'!M21 -> -
B12: ='Partner list'!C12 -> Partner 8 | C12: ='Partner 8'!C20 -> 0 | D12: ='Partner 8'!D20 -> 0 | E12: ='Partner 8'!E20 -> 0 | F12: ='Partner 8'!F20 -> 0 | G12: ='Partner 8'!G20 -> 0 | H12: ='Partner 8'!H20 -> 0 | I12: ='Partner 8'!I20 -> 0 | J12: ='Partner 8'!J20 -> 0 | ... L12: ='Partner 8'!L20 -> 0 | M12: ='Partner 8'!M21 -> -
B13: ='Partner list'!C13 -> Partner 9 | C13: ='Partner 9'!C20 -> 0 | D13: ='Partner 9'!D20 -> 0 | E13: ='Partner 9'!E20 -> 0 | F13: ='Partner 9'!F20 -> 0 | G13: ='Partner 9'!G20 -> 0 | H13: ='Partner 9'!H20 -> 0 | I13: ='Partner 9'!I20 -> 0 | J13: ='Partner 9'!J20 -> 0 | ... L13: ='Partner 9'!L20 -> 0 | M13: ='Partner 9'!M21 -> -
B14: ='Partner list'!C14 -> Partner 10 | C14: ='Partner 10'!C20 -> 0 | D14: ='Partner 10'!D20 -> 0 | E14: ='Partner 10'!E20 -> 0 | F14: ='Partner 10'!F20 -> 0 | G14: ='Partner 10'!G20 -> 0 | H14: ='Partner 10'!H20 -> 0 | I14: ='Partner 10'!I20 -> 0 | J14: ='Partner 10'!J20 -> 0 | ... L14: ='Partner 10'!L20 -> 0 | M14: ='Partner 10'!M21 -> -
B15: TOTAL | C15: =SUM(C5:C14) -> 0 | D15: =SUM(D5:D14) -> 0 | E15: =SUM(E5:E14) -> 0 | F15: =SUM(F5:F14) -> 0 | G15: =SUM(G5:G14) -> 0 | H15: =SUM(H5:H14) -> 0 | I15: =SUM(I5:I14) -> 0 | J15: =SUM(J5:J14) -> 0 | ... L15: =SUM(L5:L14) -> 0
